BEGIN:VCALENDAR
VERSION:2.0
PRODID:-//Revere&#039;s Riders [DEVEL] - ECPv6.15.9//NONSGML v1.0//EN
CALSCALE:GREGORIAN
METHOD:PUBLISH
X-ORIGINAL-URL:https://devel.reveresriders.org
X-WR-CALDESC:Events for Revere&#039;s Riders [DEVEL]
REFRESH-INTERVAL;VALUE=DURATION:PT1H
X-Robots-Tag:noindex
X-PUBLISHED-TTL:PT1H
BEGIN:VTIMEZONE
TZID:America/Indiana/Indianapolis
BEGIN:DAYLIGHT
TZOFFSETFROM:-0500
TZOFFSETTO:-0400
TZNAME:EDT
DTSTART:20200308T070000
END:DAYLIGHT
BEGIN:STANDARD
TZOFFSETFROM:-0400
TZOFFSETTO:-0500
TZNAME:EST
DTSTART:20201101T060000
END:STANDARD
BEGIN:DAYLIGHT
TZOFFSETFROM:-0500
TZOFFSETTO:-0400
TZNAME:EDT
DTSTART:20210314T070000
END:DAYLIGHT
BEGIN:STANDARD
TZOFFSETFROM:-0400
TZOFFSETTO:-0500
TZNAME:EST
DTSTART:20211107T060000
END:STANDARD
BEGIN:DAYLIGHT
TZOFFSETFROM:-0500
TZOFFSETTO:-0400
TZNAME:EDT
DTSTART:20220313T070000
END:DAYLIGHT
BEGIN:STANDARD
TZOFFSETFROM:-0400
TZOFFSETTO:-0500
TZNAME:EST
DTSTART:20221106T060000
END:STANDARD
BEGIN:DAYLIGHT
TZOFFSETFROM:-0500
TZOFFSETTO:-0400
TZNAME:EDT
DTSTART:20230312T070000
END:DAYLIGHT
BEGIN:STANDARD
TZOFFSETFROM:-0400
TZOFFSETTO:-0500
TZNAME:EST
DTSTART:20231105T060000
END:STANDARD
END:VTIMEZONE
BEGIN:VEVENT
DTSTART;TZID=America/Indiana/Indianapolis:20220326T090000
DTEND;TZID=America/Indiana/Indianapolis:20220327T160000
DTSTAMP:20260424T163913
CREATED:20220130T215029Z
LAST-MODIFIED:20220303T025150Z
UID:30217-1648285200-1648396800@devel.reveresriders.org
SUMMARY:Rifle 262 (Rimfire Known Distance / Centerfire Unknown Distance Clinic) 2-Day (Liberty\, IN)
DESCRIPTION:Rimfire Known Distance / Centerfire Unknown Distance Clinic Overview\nThis 2-day clinic is designed to familiarize attendees with the basics of shooting known distance (“KD”) and to introduce the concepts of trajectory\, come-ups\, external ballistics\, and field shooting. On the second day\, we will put all this knowledge to work shooting targets at unknown distance (“UKD”). This will be best achieved with scoped rifles although open sights are acceptable. \n\nDay 1—Rimfire Known Distance\, shot with .22LR rimfire rifles (Ruger 10/22\, Marlin 795\, etc.) at shorter distances to save money and time (please only bring .22LR to ease our job in keeping track of cartridge ballistics)\nDay 2—Centerfire Unknown Distance\, shot with centerfire rifles (AR\, AK\, bolt guns\, etc.) at ranges up to 750 yards\n\nPrerequisites: Suggested—Rifle 125 or Rifle 223 (Carbine)\, or previous experience with CMP\, High Power or NRA disciplines. \nIf you cannot consistently hit a 5″ circle at 100 yards from the prone position\, you will be frustrated at Rifle 262. Material from Basic Rifle will be only briefly reviewed. . \nEstimated Ammunition Required: 150 rounds of .22LR (or other rimfire ammunition) and 60 rounds of centerfire (no steel core/AP/etc.). \nIf you’d like to attend this clinic but cannot source ammunition please contact the Event Director prior to the event. \nRifle Requirements: You will need two rifles for this event: \n\nDay 1—a safe rifle chambered in .22LR. On the first day\, we will be firing at reduced distances of 25-100 yards which effectively simulate the challenges of obtaining hits with a centerfire rifle at 100-400 yards. Single-shot\, bolt-action\, lever-action\, semi-auto\, etc.\, are all acceptable. As long as it’s a safe rifle chambered in .22LR you’re good to go!\nDay 2—a safe rifle chambered in your choice of centerfire calibers. ARs\, AKs\, bolt guns\, etc.\, are all plenty good for what we’ll be doing. We’ll take the concepts you learned on your “little rifle” and put them into practice on the big boys!\n\nIf you’d like to attend this clinic but do not have a suitable rifle\, please contact the Event Director prior to the event. \nScope Requirements: This event is designed for scoped rifles though you may attend with other sights. Ideally\, a click-adjustable scope (around 4× fixed magnification\, 2-7×\, 3-9×\, etc. variable magnification for the .22LRs\, bigger is OK for the centerfires). We will be making sight adjustments throughout the day so having a click-adjustable scope will enhance your experience. \nIf you’d like to attend this clinic but do not have a good scope\, please contact the Event Director prior to the event. \nRequired Equipment: Please review our suggestions for appropriate Rifle 262 equipment and plan to bring the following: \n\nA sturdy\, field-expedient rest (bipod/sandbag/pack/bedroll\, etc.; USGI slings are acceptable but not ideal)\nNotebook and Pencil/Pen\nCalculator (you probably have one on your cell phone)\nTape Measure (the fabric or soft plastic ones you find in the craft section are perfect\, small construction type will do)\nhearing protection\neye protection\nHydration\, Lunch & Snacks (water/electrolytes\, light lunch of field-stable foods)\nBag/Rucksack/Pack/Etc. to carry all the above (we’ll be moving throughout the weekend)\nBoots or Sturdy Shoes (we’ll be walking through the field and it may be muddy)\nDressed appropriately (LAYERED!!!) for two days in the field\n\nOptional Equipment: The following equipment is not required but may come in handy at the event: \n\nshooting mat\nhigh powered binoculars or spotting scope\nelectronic range finder\ncompass\nsunscreen/bug spray\ntowel/change of clothes\n\nLoaner Firearms and Scopes: Loaner firearms and scopes suitable for use at this event are generally available but limited. Please contact the Event Director prior to the event if you would like to request a loaner firearm. \nSummary: This 2-Day Rifle 262 clinic picks up where the introductory Rifle 125 and Rifle 223 (Carbine) courses leave off. Students\, having mastered the fundamentals of marksmanship and familiarity with their rifles\, learn to conceptualize and implement the fundamentals of field rifle marksmanship. Most importantly\, students will learn about their rifle — and themselves. \nField Rifle is focused on practical shooting under field conditions against targets at a variety of ranges out to 750 yards. This class is named for the “MK262” ammunition used by designated marksmen\, but you can be successful at landing hits with ball ammunition and a standard rifle. \nStudents will learn: \n\nField Shooting to known distances to include target detection\, target identification and basic ballistics calculation\nIntermediate calculation of minutes of angle for precise sight adjustments at all ranges and application to field shooting problems\nScanning and data collection\nField-expedient ranging of targets at unknown distances and how to fill out a range card\nStudents will leave with the knowledge and ability to effectively shoot out to 750 yards and beyond!\n\n \n“Shots that Changed the History of the World”\nThis exciting tale will be woven throughout the weekend’s instructional events. Hear the stories of our Colonial Forefathers and the pivotal feats of marksmanship they made during the Revolutionary War that changed the course of world history. \nListen as our volunteers make this story come alive while simultaneously connecting the fundamentals we learn during the clinic. \nAdditional Information:\nAttendees are welcome to camp on the range. Please contact the Event Director with any additional questions. We’ll see you out on the line!
URL:https://devel.reveresriders.org/event/2022-mar-26-27-liberty-in/
LOCATION:A&A Optics Range (Liberty\, IN)\, 1522 E County Road 350 N\, Liberty\, IN\, 47353\, United States
CATEGORIES:Events in Illinois,Events in Indiana,Events in Kentucky,Events in Michigan,Events in Ohio,Intermediate Rifle,Live-Fire Event,Non-Discounted Event,Rimfire Friendly
ATTACH;FMTTYPE=image/jpeg:https://devel.reveresriders.org/wp-content/uploads/2022/01/featured_unknown_distance.jpg
ORGANIZER;CN="Bradley 'Slim' Settle":MAILTO:reveres.riders.slim@gmail.com
END:VEVENT
BEGIN:VEVENT
DTSTART;TZID=America/Indiana/Indianapolis:20211016T090000
DTEND;TZID=America/Indiana/Indianapolis:20211016T160000
DTSTAMP:20260424T163913
CREATED:20210722T225831Z
LAST-MODIFIED:20210726T200445Z
UID:29280-1634374800-1634400000@devel.reveresriders.org
SUMMARY:Rimfire-Only Rifle 262  - One Day (Seelyville\, IN)
DESCRIPTION:Save money and learn to shoot at distance with the pea shooter! This is a RIMFIRE-ONLY event; we will only allow rifles chambered in .22LR. Please leave your centerfire rifle at home. \nRimfire-Only Rifle 262 (Field Rifle) Overview\nThis clinic is designed to familiarize attendees with the basics of shooting known distance (“KD”) and to introduce the concepts of trajectory\, come-ups\, external ballistics and field shooting. This will be best achieved with a scoped rifle although open sights are acceptable. \nPrerequisites: Suggested — Rifle 125 or previous experience with CMP\, High Power or NRA disciplines. \nIf you cannot consistently hit a 5″ circle at 100 yards from the prone position\, you will be frustrated at Rifle 262. Material from Basic Rifle will be only briefly reviewed. Rifle 223 (Carbine) is not required. \nEstimated Ammunition Required: Bring 200 rounds\, ideally the same type. \nIf you’d like to attend this clinic but cannot source ammunition please contact the Event Director prior to the event. \nRifle Requirements: You will need a safe rifle chambered in .22LR (centerfire rifles will not be allowed). This event will be fired at reduced distances of 25-100 yards which effectively simulate the challenges of obtaining hits with a centerfire rifle at 100-400 yards. Single-shot\, bolt-action\, lever-action\, semi-auto\, etc.\, are all acceptable. As long as it’s a safe rifle chambered in .22LR you’re good to go! \nIf you’d like to attend this clinic but do not have a suitable rifle\, please contact the Event Director prior to the event. \nScope Requirements: This event is designed for a scoped .22LR rifle though you may attend with other sights. Ideally\, a click-adjustable scope (either around 4× fixed magnification or 2-7×\, 3-9×\, etc. variable magnification will be ideal). We will be making sight adjustments throughout the day so having a click-adjustable scope will enhance your experience. \nIf you’d like to attend this clinic but do not have a good scope\, please contact the Event Director prior to the event. \nRequired Equipment: Please review our suggestions for appropriate Rifle 262 equipment and plan to bring the following: \n\nA sturdy\, field-expedient rest (bipod\, sandbag\, pack\, bedroll\, etc.; USGI slings are acceptable but not ideal)\nNotebook and pencil/pen\nCalculator (you probably have one on your cell phone)\nTape Measure (the fabric or soft plastic ones you find in the craft section are perfect\, 25ft construction type will do)\nhearing protection\neye protection\nplenty of your preferred method of hydration (both plain water and something to replace electrolytes you will lose via sweating is ideal)\n\nOptional Equipment: The following equipment is not required but may come in handy at the event: \n\nhat with a brim (to deflect flying hot brass)\nshooting mat\nhigh powered binoculars or spotting scope\nfolding chair\nlunch\nsnacks\nsunscreen and/or bug spray\n\nLoaner Firearms and Scopes: loaner firearms and scopes suitable for use at this event are generally available but limited. Please contact the Event Director prior to the event if you would like to request a loaner firearm. \nSummary: This Rimfire-Only Rifle 262 course picks up where the introductory Rifle 125 clinic leaves off. Students\, having mastered the fundamentals of marksmanship\, learn to conceptualize and implement the fundamentals of field rifle marksmanship. Most importantly\, students will learn about their rifle — and themselves. \nField Rifle is focused on practical shooting under field conditions against targets at a variety of ranges out to 600 yards\, with a focus on the “sharpshooter’s quarter-mile:” 100-400 yards. This class is named for the “MK262” ammunition used by designated marksmen\, but you can be successful at landing hits with ball ammunition and a standard rifle. In this “rimfire-only” version of Rifle 262\, we will be simulating shooting with a centerfire rifle out to 100-400 yards by using a rimfire rifle at ranges of 25-100 yards. \nStudents will learn: \n\nField Shooting to known distances to include target detection\, target identification and basic ballistics calculation\nIntermediate calculation of minutes of angle for precise sight adjustments at all ranges and application to field shooting problems\nData collection for shooting to known distances\nField-expedient ranging of targets at unknown distances\nStudents will leave with the knowledge and ability to effectively shoot a .22LR to 250 yards!\n\n \n“Shots that Changed the History of the World”\nThis exciting tale will be woven throughout the day’s instructional events. Hear the stories of our Colonial Forefathers and the pivotal feats of marksmanship they made during the Revolutionary War that changed the course of world history. \nListen as our volunteers make this story come alive while simultaneously connecting the fundamentals we learn during the clinic. \nAdditional Information:\nPlease contact the Event Director with any questions. We’ll see you out on the line!
URL:https://devel.reveresriders.org/event/2021-oct-16-seelyville-in/
LOCATION:Lost Creek Conservation Club (Seelyville\, IN)\, 1330 North Main Street\, Terre Haute\, IN\, 47803\, United States
CATEGORIES:Events in Illinois,Events in Indiana,Intermediate Rifle,Live-Fire Event,Rimfire Friendly
ATTACH;FMTTYPE=image/jpeg:https://devel.reveresriders.org/wp-content/uploads/2021/07/featured_rimfire_rifle_262.jpg
ORGANIZER;CN="Bradley 'Slim' Settle":MAILTO:reveres.riders.slim@gmail.com
END:VEVENT
END:VCALENDAR